BEGIN:VCALENDAR
VERSION:2.0
PRODID:-//SG Segeln Potsdam - ECPv6.15.16//NONSGML v1.0//EN
CALSCALE:GREGORIAN
METHOD:PUBLISH
X-WR-CALNAME:SG Segeln Potsdam
X-ORIGINAL-URL:https://www.sgs-potsdam.de
X-WR-CALDESC:Veranstaltungen für SG Segeln Potsdam
REFRESH-INTERVAL;VALUE=DURATION:PT1H
X-Robots-Tag:noindex
X-PUBLISHED-TTL:PT1H
BEGIN:VTIMEZONE
TZID:Europe/Berlin
BEGIN:DAYLIGHT
TZOFFSETFROM:+0100
TZOFFSETTO:+0200
TZNAME:CEST
DTSTART:20230326T010000
END:DAYLIGHT
BEGIN:STANDARD
TZOFFSETFROM:+0200
TZOFFSETTO:+0100
TZNAME:CET
DTSTART:20231029T010000
END:STANDARD
BEGIN:DAYLIGHT
TZOFFSETFROM:+0100
TZOFFSETTO:+0200
TZNAME:CEST
DTSTART:20240331T010000
END:DAYLIGHT
BEGIN:STANDARD
TZOFFSETFROM:+0200
TZOFFSETTO:+0100
TZNAME:CET
DTSTART:20241027T010000
END:STANDARD
BEGIN:DAYLIGHT
TZOFFSETFROM:+0100
TZOFFSETTO:+0200
TZNAME:CEST
DTSTART:20250330T010000
END:DAYLIGHT
BEGIN:STANDARD
TZOFFSETFROM:+0200
TZOFFSETTO:+0100
TZNAME:CET
DTSTART:20251026T010000
END:STANDARD
END:VTIMEZONE
BEGIN:VEVENT
DTSTART;TZID=Europe/Berlin:20240408T180000
DTEND;TZID=Europe/Berlin:20240408T200000
DTSTAMP:20260420T092234
CREATED:20240310T142914Z
LAST-MODIFIED:20240310T142914Z
UID:684-1712599200-1712606400@www.sgs-potsdam.de
SUMMARY:Verband Brandenburgischer Segler
DESCRIPTION:
URL:https://www.sgs-potsdam.de/event/verband-brandenburgischer-segler/
LOCATION:SGS Potsdam
END:VEVENT
BEGIN:VEVENT
DTSTART;TZID=Europe/Berlin:20240408T190000
DTEND;TZID=Europe/Berlin:20240408T220000
DTSTAMP:20260420T092234
CREATED:20240310T142956Z
LAST-MODIFIED:20240310T142956Z
UID:686-1712602800-1712613600@www.sgs-potsdam.de
SUMMARY:Vorstandssitzung
DESCRIPTION:
URL:https://www.sgs-potsdam.de/event/vorstandssitzung-4/
LOCATION:SGS Potsdam
END:VEVENT
END:VCALENDAR