BEGIN:VCALENDAR
VERSION:2.0
PRODID:-//SG Segeln Potsdam - ECPv6.15.16//NONSGML v1.0//EN
CALSCALE:GREGORIAN
METHOD:PUBLISH
X-ORIGINAL-URL:https://www.sgs-potsdam.de
X-WR-CALDESC:Veranstaltungen für SG Segeln Potsdam
REFRESH-INTERVAL;VALUE=DURATION:PT1H
X-Robots-Tag:noindex
X-PUBLISHED-TTL:PT1H
BEGIN:VTIMEZONE
TZID:Europe/Berlin
BEGIN:DAYLIGHT
TZOFFSETFROM:+0100
TZOFFSETTO:+0200
TZNAME:CEST
DTSTART:20230326T010000
END:DAYLIGHT
BEGIN:STANDARD
TZOFFSETFROM:+0200
TZOFFSETTO:+0100
TZNAME:CET
DTSTART:20231029T010000
END:STANDARD
BEGIN:DAYLIGHT
TZOFFSETFROM:+0100
TZOFFSETTO:+0200
TZNAME:CEST
DTSTART:20240331T010000
END:DAYLIGHT
BEGIN:STANDARD
TZOFFSETFROM:+0200
TZOFFSETTO:+0100
TZNAME:CET
DTSTART:20241027T010000
END:STANDARD
BEGIN:DAYLIGHT
TZOFFSETFROM:+0100
TZOFFSETTO:+0200
TZNAME:CEST
DTSTART:20250330T010000
END:DAYLIGHT
BEGIN:STANDARD
TZOFFSETFROM:+0200
TZOFFSETTO:+0100
TZNAME:CET
DTSTART:20251026T010000
END:STANDARD
END:VTIMEZONE
BEGIN:VEVENT
DTSTART;TZID=Europe/Berlin:20241207T000000
DTEND;TZID=Europe/Berlin:20241208T235959
DTSTAMP:20260419T235106
CREATED:20240310T152031Z
LAST-MODIFIED:20241205T163924Z
UID:776-1733529600-1733702399@www.sgs-potsdam.de
SUMMARY:45. Nikolausregatta der Piraten
DESCRIPTION:Samstag\, 07. Dezember 2024:\n09:15 Uhr: Eröffnung\n10:25 Uhr: Ankündigungssignal 1. Wettfahrt\nDie weiteren Wettfahrten finden unmittelbar im Anschluss statt.\n14:50 Uhr: Letzte Startmöglichkeit \n15:30 Uhr: Empfang im Verein \nSonntag\, 08. Dezember 2024:\n10:00 Uhr: Siegerehrung \nPSC Wiking
URL:https://www.sgs-potsdam.de/event/44-nikolaus-regatta-pscw/
END:VEVENT
END:VCALENDAR