BEGIN:VCALENDAR
VERSION:2.0
PRODID:-//SG Segeln Potsdam - ECPv6.15.16//NONSGML v1.0//EN
CALSCALE:GREGORIAN
METHOD:PUBLISH
X-WR-CALNAME:SG Segeln Potsdam
X-ORIGINAL-URL:https://www.sgs-potsdam.de
X-WR-CALDESC:Veranstaltungen für SG Segeln Potsdam
REFRESH-INTERVAL;VALUE=DURATION:PT1H
X-Robots-Tag:noindex
X-PUBLISHED-TTL:PT1H
BEGIN:VTIMEZONE
TZID:Europe/Berlin
BEGIN:DAYLIGHT
TZOFFSETFROM:+0100
TZOFFSETTO:+0200
TZNAME:CEST
DTSTART:20230326T010000
END:DAYLIGHT
BEGIN:STANDARD
TZOFFSETFROM:+0200
TZOFFSETTO:+0100
TZNAME:CET
DTSTART:20231029T010000
END:STANDARD
BEGIN:DAYLIGHT
TZOFFSETFROM:+0100
TZOFFSETTO:+0200
TZNAME:CEST
DTSTART:20240331T010000
END:DAYLIGHT
BEGIN:STANDARD
TZOFFSETFROM:+0200
TZOFFSETTO:+0100
TZNAME:CET
DTSTART:20241027T010000
END:STANDARD
BEGIN:DAYLIGHT
TZOFFSETFROM:+0100
TZOFFSETTO:+0200
TZNAME:CEST
DTSTART:20250330T010000
END:DAYLIGHT
BEGIN:STANDARD
TZOFFSETFROM:+0200
TZOFFSETTO:+0100
TZNAME:CET
DTSTART:20251026T010000
END:STANDARD
END:VTIMEZONE
BEGIN:VEVENT
DTSTART;TZID=Europe/Berlin:20240408T180000
DTEND;TZID=Europe/Berlin:20240408T200000
DTSTAMP:20260420T073615
CREATED:20240310T142914Z
LAST-MODIFIED:20240310T142914Z
UID:684-1712599200-1712606400@www.sgs-potsdam.de
SUMMARY:Verband Brandenburgischer Segler
DESCRIPTION:
URL:https://www.sgs-potsdam.de/event/verband-brandenburgischer-segler/
LOCATION:SGS Potsdam
END:VEVENT
BEGIN:VEVENT
DTSTART;TZID=Europe/Berlin:20240408T190000
DTEND;TZID=Europe/Berlin:20240408T220000
DTSTAMP:20260420T073615
CREATED:20240310T142956Z
LAST-MODIFIED:20240310T142956Z
UID:686-1712602800-1712613600@www.sgs-potsdam.de
SUMMARY:Vorstandssitzung
DESCRIPTION:
URL:https://www.sgs-potsdam.de/event/vorstandssitzung-4/
LOCATION:SGS Potsdam
END:VEVENT
BEGIN:VEVENT
DTSTART;TZID=Europe/Berlin:20240410T190000
DTEND;TZID=Europe/Berlin:20240410T210000
DTSTAMP:20260420T073615
CREATED:20240310T143044Z
LAST-MODIFIED:20240310T143044Z
UID:689-1712775600-1712782800@www.sgs-potsdam.de
SUMMARY:Mitgliederversammlung
DESCRIPTION:
URL:https://www.sgs-potsdam.de/event/mitgliederversammlung/
LOCATION:SGS Potsdam
END:VEVENT
BEGIN:VEVENT
DTSTART;TZID=Europe/Berlin:20240413T000000
DTEND;TZID=Europe/Berlin:20240413T235959
DTSTAMP:20260420T073615
CREATED:20240310T143317Z
LAST-MODIFIED:20240310T143317Z
UID:693-1712966400-1713052799@www.sgs-potsdam.de
SUMMARY:Abslippen und Frühjahrsputz
DESCRIPTION:
URL:https://www.sgs-potsdam.de/event/abslippen-und-fruehjahrsputz/
LOCATION:SGS Potsdam
END:VEVENT
BEGIN:VEVENT
DTSTART;TZID=Europe/Berlin:20240418T000000
DTEND;TZID=Europe/Berlin:20240418T235959
DTSTAMP:20260420T073615
CREATED:20240310T143243Z
LAST-MODIFIED:20240310T143243Z
UID:691-1713398400-1713484799@www.sgs-potsdam.de
SUMMARY:Reviersitzung
DESCRIPTION:
URL:https://www.sgs-potsdam.de/event/reviersitzung/
LOCATION:SGS Potsdam
END:VEVENT
BEGIN:VEVENT
DTSTART;TZID=Europe/Berlin:20240420T000000
DTEND;TZID=Europe/Berlin:20240420T235959
DTSTAMP:20260420T073615
CREATED:20240310T143356Z
LAST-MODIFIED:20240310T143356Z
UID:695-1713571200-1713657599@www.sgs-potsdam.de
SUMMARY:2. Abslippen
DESCRIPTION:
URL:https://www.sgs-potsdam.de/event/2-abslippen/
LOCATION:SGS Potsdam
END:VEVENT
BEGIN:VEVENT
DTSTART;TZID=Europe/Berlin:20240427T000000
DTEND;TZID=Europe/Berlin:20240428T235959
DTSTAMP:20260420T073615
CREATED:20240310T143451Z
LAST-MODIFIED:20240310T143451Z
UID:697-1714176000-1714348799@www.sgs-potsdam.de
SUMMARY:Kinder/Jugendregatta PSV/SVPA/SGS
DESCRIPTION:
URL:https://www.sgs-potsdam.de/event/kinder-jugendregatta-psv-svpa-sgs/
END:VEVENT
BEGIN:VEVENT
DTSTART;TZID=Europe/Berlin:20240427T090000
DTEND;TZID=Europe/Berlin:20240427T160000
DTSTAMP:20260420T073615
CREATED:20240310T143535Z
LAST-MODIFIED:20240424T080607Z
UID:699-1714208400-1714233600@www.sgs-potsdam.de
SUMMARY:3. Abslippen
DESCRIPTION:
URL:https://www.sgs-potsdam.de/event/3-abslippen/
LOCATION:SGS Potsdam
END:VEVENT
END:VCALENDAR