BEGIN:VCALENDAR
VERSION:2.0
PRODID:-//SG Segeln Potsdam - ECPv6.15.16//NONSGML v1.0//EN
CALSCALE:GREGORIAN
METHOD:PUBLISH
X-ORIGINAL-URL:https://www.sgs-potsdam.de
X-WR-CALDESC:Veranstaltungen für SG Segeln Potsdam
REFRESH-INTERVAL;VALUE=DURATION:PT1H
X-Robots-Tag:noindex
X-PUBLISHED-TTL:PT1H
BEGIN:VTIMEZONE
TZID:Europe/Berlin
BEGIN:DAYLIGHT
TZOFFSETFROM:+0100
TZOFFSETTO:+0200
TZNAME:CEST
DTSTART:20230326T010000
END:DAYLIGHT
BEGIN:STANDARD
TZOFFSETFROM:+0200
TZOFFSETTO:+0100
TZNAME:CET
DTSTART:20231029T010000
END:STANDARD
BEGIN:DAYLIGHT
TZOFFSETFROM:+0100
TZOFFSETTO:+0200
TZNAME:CEST
DTSTART:20240331T010000
END:DAYLIGHT
BEGIN:STANDARD
TZOFFSETFROM:+0200
TZOFFSETTO:+0100
TZNAME:CET
DTSTART:20241027T010000
END:STANDARD
BEGIN:DAYLIGHT
TZOFFSETFROM:+0100
TZOFFSETTO:+0200
TZNAME:CEST
DTSTART:20250330T010000
END:DAYLIGHT
BEGIN:STANDARD
TZOFFSETFROM:+0200
TZOFFSETTO:+0100
TZNAME:CET
DTSTART:20251026T010000
END:STANDARD
END:VTIMEZONE
BEGIN:VEVENT
DTSTART;TZID=Europe/Berlin:20240504T100000
DTEND;TZID=Europe/Berlin:20240504T150000
DTSTAMP:20260420T054639
CREATED:20240310T143628Z
LAST-MODIFIED:20240425T144010Z
UID:701-1714816800-1714834800@www.sgs-potsdam.de
SUMMARY:Revieransegeln PSCW
DESCRIPTION:FlyerAnsegeln2024
URL:https://www.sgs-potsdam.de/event/revieransegeln-pscw/
END:VEVENT
BEGIN:VEVENT
DTSTART;TZID=Europe/Berlin:20240513T190000
DTEND;TZID=Europe/Berlin:20240513T220000
DTSTAMP:20260420T054639
CREATED:20240310T143723Z
LAST-MODIFIED:20240310T143723Z
UID:703-1715626800-1715637600@www.sgs-potsdam.de
SUMMARY:Vorstandssitzung
DESCRIPTION:
URL:https://www.sgs-potsdam.de/event/vorstandssitzung-5/
LOCATION:SGS Potsdam
END:VEVENT
BEGIN:VEVENT
DTSTART;TZID=Europe/Berlin:20240516T170000
DTEND;TZID=Europe/Berlin:20240516T190000
DTSTAMP:20260420T054639
CREATED:20240310T143904Z
LAST-MODIFIED:20240310T143904Z
UID:707-1715878800-1715886000@www.sgs-potsdam.de
SUMMARY:Trailer stapeln
DESCRIPTION:
URL:https://www.sgs-potsdam.de/event/trailer-stapeln/
LOCATION:SGS Potsdam
END:VEVENT
BEGIN:VEVENT
DTSTART;TZID=Europe/Berlin:20240522T190000
DTEND;TZID=Europe/Berlin:20240522T210000
DTSTAMP:20260420T054639
CREATED:20240310T143817Z
LAST-MODIFIED:20240310T143817Z
UID:705-1716404400-1716411600@www.sgs-potsdam.de
SUMMARY:Mitgliederversammlung
DESCRIPTION:
URL:https://www.sgs-potsdam.de/event/mitgliederversammlung-2/
LOCATION:SGS Potsdam
END:VEVENT
BEGIN:VEVENT
DTSTART;TZID=Europe/Berlin:20240525T000000
DTEND;TZID=Europe/Berlin:20240525T235959
DTSTAMP:20260420T054639
CREATED:20240310T144002Z
LAST-MODIFIED:20240505T081204Z
UID:709-1716595200-1716681599@www.sgs-potsdam.de
SUMMARY:Frühjahrsregatta SGS Potsdam
DESCRIPTION:Ausschreibung 24. Frühjahrsregatta 2024
URL:https://www.sgs-potsdam.de/event/fruehjahrsregatta-sgs-potsdam/
LOCATION:SGS Potsdam
END:VEVENT
END:VCALENDAR