BEGIN:VCALENDAR
VERSION:2.0
PRODID:-//SG Segeln Potsdam - ECPv6.15.16//NONSGML v1.0//EN
CALSCALE:GREGORIAN
METHOD:PUBLISH
X-ORIGINAL-URL:https://www.sgs-potsdam.de
X-WR-CALDESC:Veranstaltungen für SG Segeln Potsdam
REFRESH-INTERVAL;VALUE=DURATION:PT1H
X-Robots-Tag:noindex
X-PUBLISHED-TTL:PT1H
BEGIN:VTIMEZONE
TZID:Europe/Berlin
BEGIN:DAYLIGHT
TZOFFSETFROM:+0100
TZOFFSETTO:+0200
TZNAME:CEST
DTSTART:20230326T010000
END:DAYLIGHT
BEGIN:STANDARD
TZOFFSETFROM:+0200
TZOFFSETTO:+0100
TZNAME:CET
DTSTART:20231029T010000
END:STANDARD
BEGIN:DAYLIGHT
TZOFFSETFROM:+0100
TZOFFSETTO:+0200
TZNAME:CEST
DTSTART:20240331T010000
END:DAYLIGHT
BEGIN:STANDARD
TZOFFSETFROM:+0200
TZOFFSETTO:+0100
TZNAME:CET
DTSTART:20241027T010000
END:STANDARD
BEGIN:DAYLIGHT
TZOFFSETFROM:+0100
TZOFFSETTO:+0200
TZNAME:CEST
DTSTART:20250330T010000
END:DAYLIGHT
BEGIN:STANDARD
TZOFFSETFROM:+0200
TZOFFSETTO:+0100
TZNAME:CET
DTSTART:20251026T010000
END:STANDARD
END:VTIMEZONE
BEGIN:VEVENT
DTSTART;TZID=Europe/Berlin:20240902T190000
DTEND;TZID=Europe/Berlin:20240902T220000
DTSTAMP:20260419T231554
CREATED:20240310T145426Z
LAST-MODIFIED:20240310T145426Z
UID:726-1725303600-1725314400@www.sgs-potsdam.de
SUMMARY:Vorstandssitzung
DESCRIPTION:
URL:https://www.sgs-potsdam.de/event/vorstandssitzung-7/
LOCATION:SGS Potsdam
END:VEVENT
BEGIN:VEVENT
DTSTART;TZID=Europe/Berlin:20240904T190000
DTEND;TZID=Europe/Berlin:20240904T210000
DTSTAMP:20260419T231554
CREATED:20240310T145514Z
LAST-MODIFIED:20240310T145514Z
UID:729-1725476400-1725483600@www.sgs-potsdam.de
SUMMARY:Mitgliederversammlung
DESCRIPTION:
URL:https://www.sgs-potsdam.de/event/mitgliederversammlung-3/
LOCATION:SGS Potsdam
END:VEVENT
BEGIN:VEVENT
DTSTART;TZID=Europe/Berlin:20240905T000000
DTEND;TZID=Europe/Berlin:20240905T235959
DTSTAMP:20260419T231554
CREATED:20240310T145554Z
LAST-MODIFIED:20240310T145554Z
UID:731-1725494400-1725580799@www.sgs-potsdam.de
SUMMARY:Reviersitzung Mellensee
DESCRIPTION:
URL:https://www.sgs-potsdam.de/event/reviersitzung-mellensee/
END:VEVENT
BEGIN:VEVENT
DTSTART;TZID=Europe/Berlin:20240907T000000
DTEND;TZID=Europe/Berlin:20240908T235959
DTSTAMP:20260419T231554
CREATED:20240310T145726Z
LAST-MODIFIED:20240702T125635Z
UID:733-1725667200-1725839999@www.sgs-potsdam.de
SUMMARY:65. Potsdamer Mannschaftsregatta SVPA
DESCRIPTION:AusschreibungPotsdamerAdler_Mannschaftsregatta24
URL:https://www.sgs-potsdam.de/event/65-potsdamer-mannschaftsregatta-svpa/
END:VEVENT
BEGIN:VEVENT
DTSTART;TZID=Europe/Berlin:20240921T000000
DTEND;TZID=Europe/Berlin:20240922T235959
DTSTAMP:20260419T231554
CREATED:20240310T145838Z
LAST-MODIFIED:20240310T145939Z
UID:735-1726876800-1727049599@www.sgs-potsdam.de
SUMMARY:68. Herbstregatta SVEW
DESCRIPTION:
URL:https://www.sgs-potsdam.de/event/68-herbstregatta-svew/
END:VEVENT
BEGIN:VEVENT
DTSTART;TZID=Europe/Berlin:20240928T000000
DTEND;TZID=Europe/Berlin:20240929T235959
DTSTAMP:20260419T231554
CREATED:20240310T150425Z
LAST-MODIFIED:20240919T171536Z
UID:737-1727481600-1727654399@www.sgs-potsdam.de
SUMMARY:31. Saubucht-Rennen PSV
DESCRIPTION:Der Startschuss fällt am Samstagmorgen um 10:30 Uhr. Für das leibliche Wohl wird selbstverständlich beim Potsdamer Seglerverein e. V. gesorgt.
URL:https://www.sgs-potsdam.de/event/31-saubucht-rennen-psv/
END:VEVENT
END:VCALENDAR