BEGIN:VCALENDAR
VERSION:2.0
PRODID:-//SG Segeln Potsdam - ECPv6.15.16//NONSGML v1.0//EN
CALSCALE:GREGORIAN
METHOD:PUBLISH
X-WR-CALNAME:SG Segeln Potsdam
X-ORIGINAL-URL:https://www.sgs-potsdam.de
X-WR-CALDESC:Veranstaltungen für SG Segeln Potsdam
REFRESH-INTERVAL;VALUE=DURATION:PT1H
X-Robots-Tag:noindex
X-PUBLISHED-TTL:PT1H
BEGIN:VTIMEZONE
TZID:Europe/Berlin
BEGIN:DAYLIGHT
TZOFFSETFROM:+0100
TZOFFSETTO:+0200
TZNAME:CEST
DTSTART:20230326T010000
END:DAYLIGHT
BEGIN:STANDARD
TZOFFSETFROM:+0200
TZOFFSETTO:+0100
TZNAME:CET
DTSTART:20231029T010000
END:STANDARD
BEGIN:DAYLIGHT
TZOFFSETFROM:+0100
TZOFFSETTO:+0200
TZNAME:CEST
DTSTART:20240331T010000
END:DAYLIGHT
BEGIN:STANDARD
TZOFFSETFROM:+0200
TZOFFSETTO:+0100
TZNAME:CET
DTSTART:20241027T010000
END:STANDARD
BEGIN:DAYLIGHT
TZOFFSETFROM:+0100
TZOFFSETTO:+0200
TZNAME:CEST
DTSTART:20250330T010000
END:DAYLIGHT
BEGIN:STANDARD
TZOFFSETFROM:+0200
TZOFFSETTO:+0100
TZNAME:CET
DTSTART:20251026T010000
END:STANDARD
END:VTIMEZONE
BEGIN:VEVENT
DTSTART;TZID=Europe/Berlin:20241005T000000
DTEND;TZID=Europe/Berlin:20241005T235959
DTSTAMP:20260419T213456
CREATED:20240310T150657Z
LAST-MODIFIED:20240310T150657Z
UID:743-1728086400-1728172799@www.sgs-potsdam.de
SUMMARY:Absegeln
DESCRIPTION:
URL:https://www.sgs-potsdam.de/event/absegeln/
LOCATION:SGS Potsdam
END:VEVENT
BEGIN:VEVENT
DTSTART;TZID=Europe/Berlin:20241007T190000
DTEND;TZID=Europe/Berlin:20241007T220000
DTSTAMP:20260419T213456
CREATED:20240310T150758Z
LAST-MODIFIED:20240310T150758Z
UID:746-1728327600-1728338400@www.sgs-potsdam.de
SUMMARY:Vorstandssitzung
DESCRIPTION:
URL:https://www.sgs-potsdam.de/event/vorstandssitzung-8/
LOCATION:SGS Potsdam
END:VEVENT
BEGIN:VEVENT
DTSTART;TZID=Europe/Berlin:20241009T190000
DTEND;TZID=Europe/Berlin:20241009T210000
DTSTAMP:20260419T213456
CREATED:20240310T151009Z
LAST-MODIFIED:20240310T151009Z
UID:750-1728500400-1728507600@www.sgs-potsdam.de
SUMMARY:Mitgliederversammlung
DESCRIPTION:
URL:https://www.sgs-potsdam.de/event/mitgliederversammlung-4/
LOCATION:SGS Potsdam
END:VEVENT
BEGIN:VEVENT
DTSTART;TZID=Europe/Berlin:20241010T163000
DTEND;TZID=Europe/Berlin:20241010T183000
DTSTAMP:20260419T213456
CREATED:20240929T154934Z
LAST-MODIFIED:20241011T111013Z
UID:5237-1728577800-1728585000@www.sgs-potsdam.de
SUMMARY:Trailerstapeln
DESCRIPTION:
URL:https://www.sgs-potsdam.de/event/trailer-stapeln-2/
LOCATION:SGS Potsdam
END:VEVENT
BEGIN:VEVENT
DTSTART;TZID=Europe/Berlin:20241012T000000
DTEND;TZID=Europe/Berlin:20241012T235959
DTSTAMP:20260419T213456
CREATED:20240310T151057Z
LAST-MODIFIED:20240310T151057Z
UID:752-1728691200-1728777599@www.sgs-potsdam.de
SUMMARY:Saisonabschluss Jugend
DESCRIPTION:
URL:https://www.sgs-potsdam.de/event/saisonabschluss-jugend/
LOCATION:SGS Potsdam
END:VEVENT
BEGIN:VEVENT
DTSTART;TZID=Europe/Berlin:20241012T000000
DTEND;TZID=Europe/Berlin:20241012T235959
DTSTAMP:20260419T213456
CREATED:20240310T151149Z
LAST-MODIFIED:20240310T151149Z
UID:754-1728691200-1728777599@www.sgs-potsdam.de
SUMMARY:1. Aufslippen
DESCRIPTION:
URL:https://www.sgs-potsdam.de/event/1-aufslippen/
LOCATION:SGS Potsdam
END:VEVENT
BEGIN:VEVENT
DTSTART;TZID=Europe/Berlin:20241013T000000
DTEND;TZID=Europe/Berlin:20241013T235959
DTSTAMP:20260419T213456
CREATED:20240310T151406Z
LAST-MODIFIED:20240923T153805Z
UID:761-1728777600-1728863999@www.sgs-potsdam.de
SUMMARY:Herbstfahrt
DESCRIPTION:Herbstfahrt 2024: Am Sonntag\, den 13. Oktober\, ist es wieder soweit! Start ist um 10 Uhr – das Ziel bleibt eine Überraschung. Alle SGS-Mitglieder\, die mitfahren möchten\, sollten sich schnell in die Anmeldeliste am Tresen im Vereinshaus eintragen.
URL:https://www.sgs-potsdam.de/event/herbstfahrt/
LOCATION:SGS Potsdam
END:VEVENT
BEGIN:VEVENT
DTSTART;TZID=Europe/Berlin:20241014T180000
DTEND;TZID=Europe/Berlin:20241014T200000
DTSTAMP:20260419T213456
CREATED:20240310T150850Z
LAST-MODIFIED:20240310T150912Z
UID:748-1728928800-1728936000@www.sgs-potsdam.de
SUMMARY:Verband Brandenburgischer Segler Sitzung
DESCRIPTION:
URL:https://www.sgs-potsdam.de/event/verband-brandenburgischer-segler-sitzung/
LOCATION:SGS Potsdam
END:VEVENT
BEGIN:VEVENT
DTSTART;TZID=Europe/Berlin:20241019T000000
DTEND;TZID=Europe/Berlin:20241019T235959
DTSTAMP:20260419T213456
CREATED:20240310T151237Z
LAST-MODIFIED:20240310T151237Z
UID:757-1729296000-1729382399@www.sgs-potsdam.de
SUMMARY:2. Aufslippen
DESCRIPTION:
URL:https://www.sgs-potsdam.de/event/2-aufslippen/
LOCATION:SGS Potsdam
END:VEVENT
BEGIN:VEVENT
DTSTART;TZID=Europe/Berlin:20241026T000000
DTEND;TZID=Europe/Berlin:20241026T235959
DTSTAMP:20260419T213456
CREATED:20240310T151320Z
LAST-MODIFIED:20240310T151320Z
UID:759-1729900800-1729987199@www.sgs-potsdam.de
SUMMARY:3. Aufslippen
DESCRIPTION:
URL:https://www.sgs-potsdam.de/event/3-aufslippen/
LOCATION:SGS Potsdam
END:VEVENT
END:VCALENDAR