BEGIN:VCALENDAR
VERSION:2.0
PRODID:-//SG Segeln Potsdam - ECPv6.15.16//NONSGML v1.0//EN
CALSCALE:GREGORIAN
METHOD:PUBLISH
X-ORIGINAL-URL:https://www.sgs-potsdam.de
X-WR-CALDESC:Veranstaltungen für SG Segeln Potsdam
REFRESH-INTERVAL;VALUE=DURATION:PT1H
X-Robots-Tag:noindex
X-PUBLISHED-TTL:PT1H
BEGIN:VTIMEZONE
TZID:Europe/Berlin
BEGIN:DAYLIGHT
TZOFFSETFROM:+0100
TZOFFSETTO:+0200
TZNAME:CEST
DTSTART:20240331T010000
END:DAYLIGHT
BEGIN:STANDARD
TZOFFSETFROM:+0200
TZOFFSETTO:+0100
TZNAME:CET
DTSTART:20241027T010000
END:STANDARD
BEGIN:DAYLIGHT
TZOFFSETFROM:+0100
TZOFFSETTO:+0200
TZNAME:CEST
DTSTART:20250330T010000
END:DAYLIGHT
BEGIN:STANDARD
TZOFFSETFROM:+0200
TZOFFSETTO:+0100
TZNAME:CET
DTSTART:20251026T010000
END:STANDARD
BEGIN:DAYLIGHT
TZOFFSETFROM:+0100
TZOFFSETTO:+0200
TZNAME:CEST
DTSTART:20260329T010000
END:DAYLIGHT
BEGIN:STANDARD
TZOFFSETFROM:+0200
TZOFFSETTO:+0100
TZNAME:CET
DTSTART:20261025T010000
END:STANDARD
END:VTIMEZONE
BEGIN:VEVENT
DTSTART;TZID=Europe/Berlin:20250104T160000
DTEND;TZID=Europe/Berlin:20250104T190000
DTSTAMP:20260419T163307
CREATED:20241203T081038Z
LAST-MODIFIED:20250101T125143Z
UID:5365-1736006400-1736017200@www.sgs-potsdam.de
SUMMARY:Revierfahrtenseglerabend
DESCRIPTION:Die Veranstaltung findet im Klubraum der Seglervereinigung in 14542 Werder (Havel)\, Werderwiesen 22 statt. Wir möchten gemeinsam über unsere schönsten Eindrücke des letzten Sommers sprechen\, Fotos und Filme zeigen und zu neuen Segeltörns in der nächsten Saison inspirieren. Getränke zum Anstoßen auf das neue Jahr sind vorhanden. Gern könnt ihr die Teilnahme an unseren Fahrtenobmann Hauke Blohm unter fahrtensegeln(at)sv-einheit-werder.de vorab bestätigen.
URL:https://www.sgs-potsdam.de/event/revier-fahrtenseglerabend/
END:VEVENT
BEGIN:VEVENT
DTSTART;TZID=Europe/Berlin:20250113T190000
DTEND;TZID=Europe/Berlin:20250113T220000
DTSTAMP:20260419T163307
CREATED:20241203T081440Z
LAST-MODIFIED:20241203T081440Z
UID:5368-1736794800-1736805600@www.sgs-potsdam.de
SUMMARY:Vorstandssitzung
DESCRIPTION:
URL:https://www.sgs-potsdam.de/event/vorstandssitzung-11/
LOCATION:SGS Potsdam
END:VEVENT
BEGIN:VEVENT
DTSTART;TZID=Europe/Berlin:20250128T180000
DTEND;TZID=Europe/Berlin:20250128T200000
DTSTAMP:20260419T163307
CREATED:20241203T081645Z
LAST-MODIFIED:20241203T081752Z
UID:5370-1738087200-1738094400@www.sgs-potsdam.de
SUMMARY:Kinder/Jugendjahreshauptversammlung
DESCRIPTION:
URL:https://www.sgs-potsdam.de/event/jugendjahreshauptversammlung/
LOCATION:SGS Potsdam
END:VEVENT
END:VCALENDAR